BEGIN:VCALENDAR
VERSION:2.0
PRODID:icalendar-ruby
CALSCALE:GREGORIAN
BEGIN:VEVENT
DTSTAMP:20260420T090012Z
UID:c7775e8a-889e-4394-b43a-4a5aaada586e
DTSTART:20260515T090000
DTEND:20260515T150000
DESCRIPTION:Staufen - Alfred Schladerer Platz\nPreis:    Lfm.  15.- €
   -   Mit Auto am Stand    -   Mindestabnahme  4m     \nPr
 eis:    Lfm.  10- €  -   Ohne Auto am Stand   -   Mindestabn
 ahme  2m     \n Anmeldung und Vorkasse erforderlich. Platz für ca.
  70  Aussteller. Aufbau 2 Stunden vor Marktbeginn.\n 
LOCATION:Am Schießrain 1 79219 
SUMMARY:Flohmarkt Staufen Alfred Schladerer Platz
END:VEVENT
END:VCALENDAR
