BEGIN:VCALENDAR
VERSION:2.0
PRODID:icalendar-ruby
CALSCALE:GREGORIAN
BEGIN:VEVENT
DTSTAMP:20260421T102832Z
UID:e96da701-4e8d-4086-afc1-1286a9b3f98d
DTSTART:20260507T060000
DTEND:20260507T140000
DESCRIPTION:JEDEN DONNERSTAG!\n \n26.12.24 und 02.01.25 fallen aus!!!
LOCATION:Sulterkamp 70 45356 Stadtbezirke IV
SUMMARY:Gigantmarkt Essen / Autokino "Drive In"
END:VEVENT
END:VCALENDAR
