BEGIN:VCALENDAR
VERSION:2.0
PRODID:icalendar-ruby
CALSCALE:GREGORIAN
BEGIN:VEVENT
DTSTAMP:20260421T102832Z
UID:989134d1-1b5f-4e9c-a86e-e9d17c521f9c
DTSTART:20261022T060000
DTEND:20261022T140000
DESCRIPTION:JEDEN DONNERSTAG!\n \n26.12.24 und 02.01.25 fallen aus!!!
LOCATION:Sulterkamp 70 45356 Stadtbezirke IV
SUMMARY:Gigantmarkt Essen / Autokino "Drive In"
END:VEVENT
END:VCALENDAR
