BEGIN:VCALENDAR
VERSION:2.0
PRODID:icalendar-ruby
CALSCALE:GREGORIAN
BEGIN:VEVENT
DTSTAMP:20260421T102821Z
UID:cef993ab-ee2a-435e-bea0-62fb67463f57
DTSTART:20270128T060000
DTEND:20270128T140000
DESCRIPTION:JEDEN DONNERSTAG!\n \n26.12.24 und 02.01.25 fallen aus!!!
LOCATION:Sulterkamp 70 45356 Stadtbezirke IV
SUMMARY:Gigantmarkt Essen / Autokino "Drive In"
END:VEVENT
END:VCALENDAR
