BEGIN:VCALENDAR
VERSION:2.0
PRODID:icalendar-ruby
CALSCALE:GREGORIAN
BEGIN:VEVENT
DTSTAMP:20260419T184657Z
UID:9aac2cf5-f76c-4b7c-8671-af34365b91df
DTSTART:20270225T060000
DTEND:20270225T140000
DESCRIPTION:JEDEN DONNERSTAG!\n \n26.12.24 und 02.01.25 fallen aus!!!
LOCATION:Sulterkamp 70 45356 Stadtbezirke IV
SUMMARY:Gigantmarkt Essen / Autokino "Drive In"
END:VEVENT
END:VCALENDAR
