BEGIN:VCALENDAR
VERSION:2.0
PRODID:icalendar-ruby
CALSCALE:GREGORIAN
BEGIN:VEVENT
DTSTAMP:20260421T102821Z
UID:0e5dd9a6-2f5a-4151-8d66-554abf0b606c
DTSTART:20270513T060000
DTEND:20270513T140000
DESCRIPTION:JEDEN DONNERSTAG!\n \n26.12.24 und 02.01.25 fallen aus!!!
LOCATION:Sulterkamp 70 45356 Stadtbezirke IV
SUMMARY:Gigantmarkt Essen / Autokino "Drive In"
END:VEVENT
END:VCALENDAR
