BEGIN:VCALENDAR
VERSION:2.0
PRODID:icalendar-ruby
CALSCALE:GREGORIAN
BEGIN:VEVENT
DTSTAMP:20260421T101408Z
UID:c3db001a-1a7e-4526-ab17-823d635c6483
DTSTART:20260426T110000
DTEND:20260426T170000
DESCRIPTION: \n \n 
LOCATION:Große Straße 24 49762 
SUMMARY:Parkplatz Combi
END:VEVENT
END:VCALENDAR
