BEGIN:VCALENDAR
VERSION:2.0
PRODID:icalendar-ruby
CALSCALE:GREGORIAN
BEGIN:VEVENT
DTSTAMP:20260421T090349Z
UID:d7e36946-6d69-4cb4-a3ec-249e0e25a12c
DTSTART:20260816T110000
DTEND:20260816T170000
DESCRIPTION: \n \n 
LOCATION:Große Straße 24 49762 
SUMMARY:Parkplatz Combi
END:VEVENT
END:VCALENDAR
