BEGIN:VCALENDAR
VERSION:2.0
PRODID:icalendar-ruby
CALSCALE:GREGORIAN
BEGIN:VEVENT
DTSTAMP:20260421T101351Z
UID:c8904be5-0356-4da4-a5b5-b3838671d9a3
DTSTART:20261101T110000
DTEND:20261101T170000
DESCRIPTION: \n \n 
LOCATION:Große Straße 24 49762 
SUMMARY:Parkplatz Combi
END:VEVENT
END:VCALENDAR
