BEGIN:VCALENDAR
VERSION:2.0
PRODID:icalendar-ruby
CALSCALE:GREGORIAN
BEGIN:VEVENT
DTSTAMP:20260424T082046Z
UID:e7816aed-795f-4974-907e-69f4fc686e4f
DTSTART:20260509T090000
DTEND:20260509T160000
DESCRIPTION:Nur 3 x im Jahr.Rechtzeitig anmelden ! ! ! Alle Infos und Mögl
 ichkeit zur Anmeldung bitte über unserer Webseite www.timke.com
LOCATION:Pfaffenwaldring  70569 Vaihingen
SUMMARY:Grosser FLOHMARKT auf dem UNI-Gelände Stuttgart-Vaihingen
END:VEVENT
END:VCALENDAR
