BEGIN:VCALENDAR
VERSION:2.0
PRODID:icalendar-ruby
CALSCALE:GREGORIAN
BEGIN:VEVENT
DTSTAMP:20260424T082139Z
UID:c31aefe5-88fd-4644-8f19-e6c7681d9b02
DTSTART:20260725T090000
DTEND:20260725T160000
DESCRIPTION:Nur 3 x im Jahr.Rechtzeitig anmelden ! ! ! Alle Infos und Mögl
 ichkeit zur Anmeldung bitte über unserer Webseite www.timke.com
LOCATION:Pfaffenwaldring  70569 Vaihingen
SUMMARY:Grosser FLOHMARKT auf dem UNI-Gelände Stuttgart-Vaihingen
END:VEVENT
END:VCALENDAR
