BEGIN:VCALENDAR
VERSION:2.0
PRODID:icalendar-ruby
CALSCALE:GREGORIAN
BEGIN:VEVENT
DTSTAMP:20260424T064603Z
UID:3bc1776a-569c-4468-b13d-9e651b3f0f7e
DTSTART:20260919T090000
DTEND:20260919T160000
DESCRIPTION:Nur 3 x im Jahr.Rechtzeitig anmelden ! ! ! Alle Infos und Mögl
 ichkeit zur Anmeldung bitte über unserer Webseite www.timke.com
LOCATION:Pfaffenwaldring  70569 Vaihingen
SUMMARY:Grosser FLOHMARKT auf dem UNI-Gelände Stuttgart-Vaihingen
END:VEVENT
END:VCALENDAR
