BEGIN:VCALENDAR
VERSION:2.0
PRODID:icalendar-ruby
CALSCALE:GREGORIAN
BEGIN:VEVENT
DTSTAMP:20260420T084323Z
UID:7c34289e-6f3e-4e99-8cbb-e149db56d303
DTSTART:20260426T110000
DTEND:20260426T170000
DESCRIPTION:Großer Flohmarkt zum verkaufsoffenen Sonntag in Waldshut! Jede
 r kann ohne Anmeldung mitmachen! Einfach vorbeikommen! Es gibt genug Platz
  für alle! Platzvergabe ab 7 Uhr morgens! Unser Mitarbeiter zeigt Ihnen I
 hren Standplatz! Standmiete € 9\,- pro Meter! Bezahlung vor Ort! Fahrzeu
 g kostenlos am Stand! Viele überdachte Stellplätze!\nBis dann!\nDer Mark
 t findet bei jedem Wetter statt!\nTisch\, Stuhl\, Kleiderstange etc. bitte
  selbst mitbringen!\n \n \n \nJetzt neu: Besuche www.gerosflohmarkt.de 
 und verkaufe kostenlos Deine Sachen online!\nGerosFlohmarkt.de - Flohmärk
 te und kostenlose Kleinanzeigen!
LOCATION:Lonzaring 4 79761 Gippingen
SUMMARY:Waldshut\, Parkhaus C+C Netzhammer\, Riesen- Sonntags- Flohmarkt! F
 indet statt! Ohne Anmeldung! Einfach vorbeikommen!
END:VEVENT
END:VCALENDAR
