BEGIN:VCALENDAR
VERSION:2.0
PRODID:icalendar-ruby
CALSCALE:GREGORIAN
BEGIN:VEVENT
DTSTAMP:20260425T191954Z
UID:02eb78e1-20cf-44c6-acb8-828355d67e46
DTSTART:20260524T110000
DTEND:20260524T170000
DESCRIPTION:Krämermarkt rund um den Marktplatz in KuchenVerkauf  von 11.0
 0 bis 17.00 Uhr.Teilnahme am Krämermarkt nur nach vorheriger Anmeldung un
 d Zulassung durch den Veranstalter. Bitte fordern sie die Unterlagen an: k
 raemermarkt@nmv-marktagentur.de Eine Teilnahme ohne Standzusage ist nicht 
 möglich !! Voraussetzungen: Reisegewerbekarte und Steuer-ID.Annahmeschlus
 s für Standreservierungen ist 14 Tage vor der Veranstaltung
LOCATION:Marktplatz  73329 
SUMMARY:Lichtmessmarkt mit Krämermarkt
END:VEVENT
END:VCALENDAR
