BEGIN:VCALENDAR
VERSION:2.0
PRODID:icalendar-ruby
CALSCALE:GREGORIAN
BEGIN:VEVENT
DTSTAMP:20260424T085017Z
UID:ec0849d7-6fd5-4daa-b321-11ff0c90eeaa
DTSTART:20261018T080000
DTEND:20261018T160000
DESCRIPTION:Riesenflohmarkt auf dem Parkplatz der Firma ALDI in Nürnberg.D
 ieser Platz befindet sich direkt an der Regensburger Strasse 266 in 90480 
 Nürnberg.\nKomplett asphaltiert - für Privatanbieter hier ist immer der 
 TEUFEL los :) - Besucherströme und gute Umsätze sind hier üblich.Erreic
 hbar mit:Bahn: S2 Haltestelle Nürnberg Dutzendteich\nBus: Buslinie 65 - H
 altestelle Dutzendteich\n       Buslinie 45 - Haltestelle Waldlust\n
        Buslinie 55 - Haltestelle Herzogstrasse\nStraßenbahn: Linie 
 6 - Haltestelle Dutzendteich \nOnlinereservierung unter www.troedelteam-g
 raage.de empfohlen oderam Vortag von 20 bis 21 Uhr direkt am Platzoder Son
 ntag früh ab 8 Uhr einfach kommen!\nTrödel: 5 Meter mit Auto oder Anhän
 ger 30\,00€\nSie möchten einen kleinen Stand:Je Meter Trödel 5\,00€
   Je Meter Neuware 8\,00€\nGrundgebühr an Sonntags und Feiertagsmärkt
 en pro Stand: 3 EuroTermindaueransage: 0911 - 32 96 23Bei weiteren Fragen 
 erreichen Sie uns unterThomas: 0175 - 20 80 762 oder Dani: 0175 - 24 68 16
 9 oder Lilli: 0171 - 79 41 826Jetzt gleich Platz sichern!Onlinereservierun
 g unter:www.troedelteam-graage.de / OnlinereservierungLasst uns doch bitte
  unter https://www.facebook.com/troedelteam.graage/ Euer Like da.
LOCATION:Regensburger Straße 266 90480 Ost
SUMMARY:Flohmarkt Trödelmarkt ALDI Regensburger Str. 266 Nürnberg ideal f
 ür Privatanbieter
END:VEVENT
END:VCALENDAR
