BEGIN:VCALENDAR
VERSION:2.0
PRODID:icalendar-ruby
CALSCALE:GREGORIAN
BEGIN:VEVENT
DTSTAMP:20260419T213920Z
UID:f73dc052-ecdb-4938-9b9e-8f36545a3974
DTSTART:20260913T090000
DTEND:20260913T170000
DESCRIPTION:Der große Antikflohmarkt auf der Trabrennbahn Berlin Karlshors
 t findet jeweils Anfang des Monats statt.\nAm 4.-6.April 2026 wird mit 8 T
 opterminen die Antiksaison 2025 gestartet.Herausragend sind die 3-Tage Er
 öffnung zu Ostern (4.-6.April) und die beiden Riesenflohmarkt-Termine zu 
 Pfingsten (23.-25.Mai) und zum Tag der Deutschen Einheit (2.-4.Oktober)!!\
 n.....Händler von auswärts können bereits am Freitag zwischen 17 und 20
  Uhr anreisen und in Ihren Fahrzeugen übernachten.Für Profiaufkäufer ha
 lten wir bereits schon am Freitag Van-Parkplätze bereit. 300-500 überwie
 gend professionelle Händler und 20.-25.000 Besucher.Auch Privat- &amp\; H
 obbytrödler können teilnehmen\;) Antiquitäten\, Möbel\, Design und Ind
 ustriedesign\, diverse Sammlerwaren &amp\; Second Hand.\nTERMINE Infos &am
 p\; BUCHUNG unter: https://oldthing.de/riesenflohmarktWir freuen uns auf E
 uch!oldthing märkte
LOCATION:Treskowallee 159 10318 Bezirk Lichtenberg
SUMMARY:RIESENFLOHMARKT Trabrennbahn Karlshorst
END:VEVENT
END:VCALENDAR
