BEGIN:VCALENDAR
VERSION:2.0
PRODID:icalendar-ruby
CALSCALE:GREGORIAN
BEGIN:VEVENT
DTSTAMP:20260423T224551Z
UID:f34a547e-e7ee-444e-be55-d7ec435b1bf2
DTSTART:20260531T070000
DTEND:20260531T180000
DESCRIPTION:Platzvergabe am Samstag vor der Veranstaltung\nzwischen 16.00 u
 nd 17.00 Uhr. Am Veranstaltungstag ab 7.00 Uhr\nAufbau ab 7.00 Uhr   Ver
 kaufszeiten ( gesetzlich Festgelegt ) 11.00 bis 18.00 Uhr  \nPKW am Stan
 d ab  4.00 Meter   Kombi und Transporter ab 5.00 Meter  \nGrundgebüh
 r pro Stand € 5.-  Müllkation 10.00 €  \nKinder bis 10 Jahre ( Dec
 ke 2x2 Meter  Spielsachen etc. )  € 10.-\nlfd. Meter Trödel  bei Res
 ervierung am Vortag 10.00 €\,  am Veranstaltungstag 10.00 €   Neuwa
 re auf Anfrage\n \nFindet der Markt nicht statt ( auch ohne Ankündigung 
 ) \, wird das bereits gezahlte Standgeld auf die Folgeveranstaltung übert
 ragen.\nDas Standgeld ist inklusive der Müllkaution bei Platzeinnahme zur
  Zahlung fällig.\nDie Müllkaution wird bei sauberem und vollständig abg
 eräumten Platz ab frühestens 16.00  Uhr zurückgezahlt.\nNeuware ist zu
 gelassen\, Preis auf Anfrage\nInfotelefon : 0170  404 16 95  Märkte Sta
 mmen\n \nDie Marktleitung\n \n 
LOCATION:Humboldtstraße 2 50126 Zieverich
SUMMARY:Trödelmarkt Möbel Hausmann / Porta Bergheim
END:VEVENT
END:VCALENDAR
