BEGIN:VCALENDAR
VERSION:2.0
PRODID:icalendar-ruby
CALSCALE:GREGORIAN
BEGIN:VEVENT
DTSTAMP:20260421T101011Z
UID:b4076f94-0a1e-4f78-b186-a4616d39cd82
DTSTART:20260514T110000
DTEND:20260514T180000
DESCRIPTION:Ab 6 Uhr ist Platzvergabe und es kann Aufgebaut werden.Der Verk
 auf beginnt erst ab 11 Uhr.\nDie Preise richten sich nach Art der Waren.Al
 le weiteren Informationen können Sie per Telefon oder vor Ort erfahren.\n
 Tel.: 0151 / 11 646 999\nIn Zusammenarbeit mit der Fa. Märkte &amp\; Even
 ts Jessica Kather 
LOCATION:Klever Ring 1 47533 
SUMMARY:Kleve-Hagebaumarkt -Swertz- Parkplatz - Kleve
END:VEVENT
END:VCALENDAR
