BEGIN:VCALENDAR
VERSION:2.0
PRODID:icalendar-ruby
CALSCALE:GREGORIAN
BEGIN:VEVENT
DTSTAMP:20260420T152602Z
UID:bde177a0-996d-4c87-9534-86acf853c519
DTSTART:20260718T080000
DTEND:20260718T160000
DESCRIPTION:Flohmarkt am Festplatz Rottweil\nvon 08°°-16°° Uhr\nlaufend
 e Meter 9.- €\nAuto am Stand !!!\nkeine Anmeldung erforderlich !!!\nNeuw
 are unerwünscht !!!
LOCATION:Stadionstraße 40 78628 
SUMMARY:Festplatz Rottweil
END:VEVENT
END:VCALENDAR
