BEGIN:VCALENDAR
VERSION:2.0
PRODID:icalendar-ruby
CALSCALE:GREGORIAN
BEGIN:VEVENT
DTSTAMP:20260421T124119Z
UID:2056c2c7-278b-4ca2-a3ba-13d5a6e0f719
DTSTART:20260926T093000
DTEND:20260926T120000
DESCRIPTION:Einkaufen und krebskranken Kindern helfen!\nGroßer NACH GRÖSS
 EN VORSORTIERTER Kindersachen-Flohmarkt im Gemeindesaal der St.Bonifatius-
 Kirche (Friedrich-Ebert-Straße/Ecke Nebeniusstraße) zugunsten der Deutsc
 hen Leukämie-Forschungs-Hilfe (Ortsverband Mannheim)\n- Ausgewählte Seco
 nd-hand-Baby- und Kinderkleidung- gut erhaltenes Kinderspielzeug Zubehör 
 vom Flaschenwärmer bis zum Bobbycar.- aktuelle Bücher für Kinder und Er
 wachsene- Waffeln\, Kuchen\, Brezeln und Getränke im KinderSachenMarkt-Ca
 fé für den guten Zweck\nMehr unter www.facebook.com/kindermarktmannheim 
 oder Instagram @kindersachenmarkt\n 
LOCATION:Friedrich-Ebert-Straße 34 68167 Neckarstadt
SUMMARY:Benefiz-Kindersachenflohmarkt Mannheim - Aktion für krebskranke Ki
 nder
END:VEVENT
END:VCALENDAR
