BEGIN:VCALENDAR
VERSION:2.0
PRODID:icalendar-ruby
CALSCALE:GREGORIAN
BEGIN:VEVENT
DTSTAMP:20260421T054023Z
UID:808aa4fb-c9e4-4b54-ae65-d5c6446b1bc5
DTSTART:20260525T080000
DTEND:20260525T150000
DESCRIPTION:  PRÄSENTATIONSPFLICHT DER WAREN ! Bis 14.00 Uhr mindestens !
 \nWir trödeln auch im Stadtzentrum von Aue\, auf dem Altmarkt.... und bei
  Bedarf auf der Kirchstrasse.\nAufbau nicht vor 7.00 Uhr in Anwesenheit de
 s Veranstalters ! Ab 3m Auto am Stand.\nNeuware ist nicht erlaubt !\nBewor
 ben wird der Markt in der Presse sowie mit Plakaten auf dem Stadtgebiet.
LOCATION:Altmarkt 7 08280 
SUMMARY:AUE ALTMARKT (+ Kirchstrasse) 
END:VEVENT
END:VCALENDAR
