BEGIN:VCALENDAR
VERSION:2.0
PRODID:icalendar-ruby
CALSCALE:GREGORIAN
BEGIN:VEVENT
DTSTAMP:20260421T072457Z
UID:20811e0c-eaaa-4384-9d8d-1c3734da4c2b
DTSTART:20260823T080000
DTEND:20260823T150000
DESCRIPTION:  PRÄSENTATIONSPFLICHT DER WAREN ! Bis 14.00 Uhr mindestens !
 \nWir trödeln auch im Stadtzentrum von Aue\, auf dem Altmarkt.... und bei
  Bedarf auf der Kirchstrasse.\nAufbau nicht vor 7.00 Uhr in Anwesenheit de
 s Veranstalters ! Ab 3m Auto am Stand.\nNeuware ist nicht erlaubt !\nBewor
 ben wird der Markt in der Presse sowie mit Plakaten auf dem Stadtgebiet.
LOCATION:Altmarkt 7 08280 
SUMMARY:AUE ALTMARKT (+ Kirchstrasse) 
END:VEVENT
END:VCALENDAR
