BEGIN:VCALENDAR
VERSION:2.0
PRODID:icalendar-ruby
CALSCALE:GREGORIAN
BEGIN:VEVENT
DTSTAMP:20260423T141607Z
UID:24472134-0f18-4566-af1d-5740e7bf60dc
DTSTART:20260802T080000
DTEND:20260802T160000
DESCRIPTION:Riesenflohmarkt auf dem Parkplatz der Firma toom Baumarkt in Ec
 kental.\nBekannter Platz - komplett asphaltiert - direkt an der B2Trödel 
 und Neuware erlaubt!!!Dr.-Otto-Leich-Straße 7   in   90542 EckentalEi
 n mega Platz mit super Lage\nOnlinereservierung unter www.troedelteam-graa
 ge.de empfohlen oder am Vortag von 20 bis 21 Uhr direkt am Platzoder Sonnt
 ag früh ab 8 Uhr einfach kommen!\nTrödel:     5 Meter mit Auto oder 
 Anhänger 30\,00€Neuware: 5 Meter mit Auto oder Anhänger 40\,00€\nSie
  möchten einen kleinen Stand:Je Meter Trödel 5\,00€ Je Meter Neuware 8
 \,00€\nGrundgebühr an Sonntags und Feiertagsmärkten pro Stand: 3 Euro\
 nTermindaueransage: 0911 - 32 96 23Bei weiteren Fragen erreichen Sie uns u
 nterThomas: 0175 - 20 80 762 oder Dani: 0175 - 24 68 169 oder Lilli: 0171 
 - 79 41 826\nJetzt gleich Platz sichern!Onlinereservierung unter:www.troed
 elteam-graage.de / Onlinereservierung\nLasst uns doch bitte unter https://
 www.facebook.com/troedelteam.graage/ Euer Like da.
LOCATION:Dr.-Otto-Leich-Straße 7 90542 
SUMMARY:Riesenflohmarkt Toom Baumarkt Eckental
END:VEVENT
END:VCALENDAR
