BEGIN:VCALENDAR
VERSION:2.0
PRODID:icalendar-ruby
CALSCALE:GREGORIAN
BEGIN:VEVENT
DTSTAMP:20260419T180746Z
UID:214cccf5-06e6-4c95-a33f-3595b765579c
DTSTART:20260503T080000
DTEND:20260503T170000
DESCRIPTION:Flohmarkt
LOCATION:Siemensstraße 39 25813 
SUMMARY:Flohmarkt
END:VEVENT
END:VCALENDAR
