BEGIN:VCALENDAR
VERSION:2.0
PRODID:icalendar-ruby
CALSCALE:GREGORIAN
BEGIN:VEVENT
DTSTAMP:20260419T193538Z
UID:56e3c819-b044-42be-800c-e4de9ba4eb12
DTSTART:20260607T080000
DTEND:20260607T170000
DESCRIPTION:Flohmarkt
LOCATION:Siemensstraße 39 25813 
SUMMARY:Flohmarkt
END:VEVENT
END:VCALENDAR
