BEGIN:VCALENDAR
VERSION:2.0
PRODID:icalendar-ruby
CALSCALE:GREGORIAN
BEGIN:VEVENT
DTSTAMP:20260419T193538Z
UID:86e1cb6d-dec5-4e16-b8ea-c59d80ef50cf
DTSTART:20260705T080000
DTEND:20260705T170000
DESCRIPTION:Flohmarkt
LOCATION:Siemensstraße 39 25813 
SUMMARY:Flohmarkt
END:VEVENT
END:VCALENDAR
