BEGIN:VCALENDAR
VERSION:2.0
PRODID:icalendar-ruby
CALSCALE:GREGORIAN
BEGIN:VEVENT
DTSTAMP:20260419T181207Z
UID:e453d214-5bb2-442c-be6d-29ec79238c40
DTSTART:20260802T080000
DTEND:20260802T170000
DESCRIPTION:Flohmarkt
LOCATION:Siemensstraße 39 25813 
SUMMARY:Flohmarkt
END:VEVENT
END:VCALENDAR
