BEGIN:VCALENDAR
VERSION:2.0
PRODID:icalendar-ruby
CALSCALE:GREGORIAN
BEGIN:VEVENT
DTSTAMP:20260419T193544Z
UID:fcf66453-add6-4118-a90d-c59e7cb92000
DTSTART:20260913T080000
DTEND:20260913T170000
DESCRIPTION:Flohmarkt
LOCATION:Siemensstraße 39 25813 
SUMMARY:Flohmarkt
END:VEVENT
END:VCALENDAR
