BEGIN:VCALENDAR
VERSION:2.0
PRODID:icalendar-ruby
CALSCALE:GREGORIAN
BEGIN:VEVENT
DTSTAMP:20260424T042222Z
UID:149348e9-7905-4b93-8446-076bb2e56a6d
DTSTART:20261107T080000
DTEND:20261107T160000
DESCRIPTION:direkt an der B 7 Jena Richtung Weimarüberwiegend Altware + zu
 sätzlich einige Plätze für NeuwarenStandmieten:- für Trödel / Altware
 : pro lfdm. 9\,00 € / oder pauschal 4 lfdm. 27\,00 € oder pauschal 10 
 lfdm. 60\,00 €- für Neuware pro lfdm.: 10\,00 € / ab 6 lfdm. Sonderpr
 eise nach VereinbarungJeder kann ohne Anmeldung mitmachen (keine Platzrese
 rvierungen) - einfach sehr früh morgens hinkommen!Auto am Stand möglich
  Platzvergabe / Aufbau ab 06:00 UhrVerkauf 08:00-16:00 Uhrim Nahbereich a
 usgeschildert
LOCATION:Weimarische Straße 3 07751 Isserstedt
SUMMARY:GLOBUS Isserstedt
END:VEVENT
END:VCALENDAR
