BEGIN:VCALENDAR
VERSION:2.0
PRODID:icalendar-ruby
CALSCALE:GREGORIAN
BEGIN:VEVENT
DTSTAMP:20260421T105051Z
UID:ec1701dc-99c6-4465-8370-bd1d50cf38c7
DTSTART:20260927T100000
DTEND:20260927T180000
DESCRIPTION:Achtung: 24.9.2023 ist bereits ausgebucht für Händler!!! Für
  weitere Termine bitte unter www.flohmarkt-sachsen.de anmelden!! Bitte nic
 ht unangemeldet kommen!\nZweimal jährlich findet am sonntags ein neuer gr
 oßer Trödelmarkt auf dem Gelände der Hofewiese in Dresden-Langebrück s
 tatt.  Besucher können auch die nahen Wanderparkplätze nutzen\, von den
 en man meist um die 2 km bis zur Hofewiese wandert. \nStandgebühren 3 m 
 25 Euro\, jeder weitere m 5 Euro\, ab 5 Meter Auto am Stand.\nWeitere Inf
 os demnächst.
LOCATION:Gänsefuß 55 01465 Dresdner Heide
SUMMARY:Kunst-\, Antik- und Trödelmarkt zu den Hofewiesen
END:VEVENT
END:VCALENDAR
