BEGIN:VCALENDAR
VERSION:2.0
PRODID:icalendar-ruby
CALSCALE:GREGORIAN
BEGIN:VEVENT
DTSTAMP:20260425T014244Z
UID:b574cb07-398a-4d8f-aebd-3e94306c7468
DTSTART:20261108T100000
DTEND:20261108T180000
DESCRIPTION:Antik- und Lifestylemarkt\n\nAntik und Lifestyle auf dem Matern
 usplatz in Köln Rodenkirchen\n
LOCATION:Maternusplatz  50996 Rodenkirchen
SUMMARY:Martinsmarkt - Antik- und Lifestylemarkt
END:VEVENT
END:VCALENDAR
