BEGIN:VCALENDAR
VERSION:2.0
PRODID:icalendar-ruby
CALSCALE:GREGORIAN
BEGIN:VEVENT
DTSTAMP:20260420T123850Z
UID:7e880691-43f7-46c4-b4ce-afa7d14fb86d
DTSTART:20260503T110000
DTEND:20260503T170000
DESCRIPTION: \nPlatz vergabe ab 6Uhr\, lfdm Trödel 8€. Lfdm Neuware 12
 €\nNeuware nur mit Anmeldung!!!\n \n 
LOCATION:Lohbecker Straße 1 49593 
SUMMARY:Parkplatz Baumarkt BAUDI
END:VEVENT
END:VCALENDAR
