BEGIN:VCALENDAR
VERSION:2.0
PRODID:icalendar-ruby
CALSCALE:GREGORIAN
BEGIN:VEVENT
DTSTAMP:20260420T141422Z
UID:20cc2347-d4c1-4071-8bb1-978f42f4be57
DTSTART:20260823T110000
DTEND:20260823T170000
DESCRIPTION: \nPlatz vergabe ab 6Uhr\, lfdm Trödel 8€. Lfdm Neuware 12
 €\nNeuware nur mit Anmeldung!!!\n \n 
LOCATION:Lohbecker Straße 1 49593 
SUMMARY:Parkplatz Baumarkt BAUDI
END:VEVENT
END:VCALENDAR
