BEGIN:VCALENDAR
VERSION:2.0
PRODID:icalendar-ruby
CALSCALE:GREGORIAN
BEGIN:VEVENT
DTSTAMP:20260420T171556Z
UID:2c76cb43-6cc5-46d7-9a98-646b1aa1dd7a
DTSTART:20260815T090000
DTEND:20260815T150000
DESCRIPTION:Großer Flohmarkt in Waldkirch von 9 bis 15 h\nSchönes Parkgel
 ände mit vielen großen Bäumen und kühlem Schatten im Sommer\nlfm 9\,--
 € \, bei Vorkasse nur 8\,--€ je meter\, Mindestabnahme 2 Meter je Stan
 d\nAuto am Stand ist nicht möglich\nAnmeldung unter Telefon 017644422224 
 oder email an : flohknut@web.de\nAufbau ab 7 h\nGetränkestand mit Kaffee\
 , Cola \, Fanta\, Apfelschorle und Wasser ist vor Ort \,\nes gibt auch ein
 e saubere Toilette
LOCATION:Schlettstadtallee  79183 
SUMMARY:Flohmarkt Waldkirch Schlettstadtallee
END:VEVENT
END:VCALENDAR
