BEGIN:VCALENDAR
VERSION:2.0
PRODID:icalendar-ruby
CALSCALE:GREGORIAN
BEGIN:VEVENT
DTSTAMP:20260424T042736Z
UID:0e49728b-16ea-4afc-9f73-f7280687af9a
DTSTART:20260523T090000
DTEND:20260523T150000
DESCRIPTION:Wallbach (Bad Säck.)- Parkplatz Flößerhalle (Verkehrsübungs
 platz)\nPreis:    Lfm.  8.- €       Mit Auto am Stand    
   -    Mindestabnahme  4m\nPreis:    Lfm.  7.- €       oh
 ne Auto am Stand   -    Mindestabnahme  2m\nKeine Anmeldung erforder
 lich. Platz für ca. 70 Aussteller. Aufbau 2 Stunden vor Marktbeginn.
LOCATION:Steinenstraße 20 79713 Wallbach
SUMMARY:Flohmarkt Wallbach Bad Säckingen
END:VEVENT
END:VCALENDAR
