BEGIN:VCALENDAR
VERSION:2.0
PRODID:icalendar-ruby
CALSCALE:GREGORIAN
BEGIN:VEVENT
DTSTAMP:20260424T225350Z
UID:339d0e63-2c20-47b0-bd9d-a30afcf2fc00
DTSTART:20260517T080000
DTEND:20260517T160000
DESCRIPTION:Riesenflohmarkt auf dem Parkplatz der Firma ALDI in Nürnberg.D
 ieser Platz befindet sich direkt an der Wiesbadener Straße 41 in 90427 N
 ürnberg.\nKomplett asphaltiert - für Privatanbieter hier ist immer der T
 EUFEL los :) - Besucherströme und gute Umsätze sind hier üblich.Erreich
 bar mit:Bus:  Buslinie 290 Haltestelle: Marburger Straße\nOnlinereservie
 rung unter www.troedelteam-graage.de empfohlen oderam Vortag von 20 bis 21
  Uhr direkt am Platzoder Sonntag früh ab 8 Uhr einfach kommen\nTrödel: 5
  Meter mit Auto oder Anhänger 30\,00€\nSie möchten einen kleinen Stand
 :Je Meter Trödel 5\,00€  Je Meter Neuware 8\,00€\nGrundgebühr an So
 nntags und Feiertagsmärkten pro Stand: 3 EuroTermindaueransage: 0911 - 32
  96 23Bei weiteren Fragen erreichen Sie uns unterThomas: 0175 - 20 80 762 
 oder Dani: 0175 - 24 68 169 oder Lilli: 0171 - 79 41 826Jetzt gleich Platz
  sichern!Onlinereservierung unter:www.troedelteam-graage.de / Onlinereserv
 ierungLasst uns doch bitte unter https://www.facebook.com/troedelteam.graa
 ge/ Euer Like da.
LOCATION:Wiesbadener Straße 41 90427 Nordwestliche Außenstadt
SUMMARY:Riesenflohmarkt Aldi Wiesbadener Straße 41 in 90427 Nürnberg idea
 l für Privatanbieter
END:VEVENT
END:VCALENDAR
