BEGIN:VCALENDAR
VERSION:2.0
PRODID:icalendar-ruby
CALSCALE:GREGORIAN
BEGIN:VEVENT
DTSTAMP:20260424T232710Z
UID:1c212b95-6559-4250-b5ac-b9704f8dd07c
DTSTART:20260425T110000
DTEND:20260425T170000
DESCRIPTION:Von 1913 bis 2001 wurde auf der Zeche Fürst Leopold Kohle gef
 ördert. Im Anschluss entstand auf dem Gelände ein attraktives Gewerbegeb
 iet und ein kultureller Mittelpunkt für die gesamte Region.\nIn dieser ei
 nmaligen Kulisse präsentieren Fachbetriebe getreu dem Motto "Alles rund u
 ms Haus" folgende Themenbereiche:\nBauen &amp\; Wohnen - Sanieren &amp\; R
 enovierenAlternative Energien &amp\; EnergieeinsparungenSicherheit &amp\; 
 EinbruchschutzImmobilien &amp\; FinanzenEinrichten &amp\; DekorierenHaus &
 amp\; GartenDorsten ist ein attraktiver Standort mit einer hohen Lebensqua
 lität und bezahlbarem Wohnraum. Wir bringen Bauherren und Sanierer mit de
 m regionalen Handwerk und Dienstleistern zusammen. Junge Leute\, ältere M
 enschen\, Singles\, Paare und Familien haben verschiedene Wünsche und Bau
 projekte.\nHier treffen Sie die richtigen Ansprechpartner für die Moderni
 sierung und Sanierung von Wohngebäuden\, Neubauprojekte\, Energie- und Si
 cherheitskonzepte.\nErleben Sie Themen zum zukunftsfähigem Wohnen\, der D
 igitalisierung und Smarthome. Es lohnt sich immer in die eigenen vier Wän
 de zu investieren. Ein gemütliches Zuhause zum Wohlfühlen wünscht sich 
 doch jeder.\nWir freuen uns auf Ihren Besuch!\n 
LOCATION:Halterner Straße 105 46284 Hervest
SUMMARY:Bauen &amp\; Wohnen Dorsten
END:VEVENT
END:VCALENDAR
