BEGIN:VCALENDAR
VERSION:2.0
PRODID:icalendar-ruby
CALSCALE:GREGORIAN
BEGIN:VEVENT
DTSTAMP:20260424T135915Z
UID:360190d4-8bb9-4b32-b198-bdffb32c42f6
DTSTART:20260425T080000
DTEND:20260425T150000
DESCRIPTION: \nGroßer Floh und Trödelmarkt auf über 1500qm2 Außenfläc
 he\nJeden  Samstag\nStandmiete Samstag 15 Euro für 5 Meter (jeder weiter
 e Meter 5\,00 Euro) \nAlle Plätze können mit dem Auto genutzt werden.\n
 Aufbau in den Wintermonaten bis einschließlich März ab 8.00 Uhr.\n \nBi
 tte reservieren sie frühzeitig telefonisch ihren Standplatz !\n0171-68062
 27\nWir freuen uns auf ihren Besuch\n 
LOCATION:An der Glasfabrik  53 Glasfabrik
SUMMARY:Flohmarkt Glasfabrik Bad Breisig
END:VEVENT
END:VCALENDAR
