BEGIN:VCALENDAR
VERSION:2.0
PRODID:icalendar-ruby
CALSCALE:GREGORIAN
BEGIN:VEVENT
DTSTAMP:20260423T162656Z
UID:1286634f-631e-4f8f-b272-2ff12c7f7ae1
DTSTART:20260606T080000
DTEND:20260606T160000
DESCRIPTION:Ab dem 05.12.2020 gelten neue Standgebühren :\n\nDer laufende 
 Meter für Neuware pro Tag beträgt 15 € \nDer laufende Meter für Trö
 del pro Tag beträgt 10 €\nDie Stromkosten pro Tag betragen 10 € \n\n
  
LOCATION:Heinrich-Plett-Straße  34132 Oberzwehren
SUMMARY:Tiefgarage der UNI-Kassel 
END:VEVENT
END:VCALENDAR
