BEGIN:VCALENDAR
VERSION:2.0
PRODID:icalendar-ruby
CALSCALE:GREGORIAN
BEGIN:VEVENT
DTSTAMP:20260423T162850Z
UID:9c1e8d09-3402-40aa-bed9-b30b681514d6
DTSTART:20261004T080000
DTEND:20261004T160000
DESCRIPTION:Ab dem 05.12.2020 gelten neue Standgebühren :\n\nDer laufende 
 Meter für Neuware pro Tag beträgt 15 € \nDer laufende Meter für Trö
 del pro Tag beträgt 10 €\nDie Stromkosten pro Tag betragen 10 € \n\n
  
LOCATION:Heinrich-Plett-Straße  34132 Oberzwehren
SUMMARY:Tiefgarage der UNI-Kassel 
END:VEVENT
END:VCALENDAR
