BEGIN:VCALENDAR
VERSION:2.0
PRODID:icalendar-ruby
CALSCALE:GREGORIAN
BEGIN:VEVENT
DTSTAMP:20260420T054659Z
UID:30959ced-ea42-4847-89ce-0f3bd8076893
DTSTART:20260509T100000
DTEND:20260509T170000
DESCRIPTION:Am Samstag den 9. Mai 2026\,von 10-16 Uhr\, gastiert der Deutsc
 h-Holländische Stoffmarkt auf dem Messeparkplatz an der Damaschkestraße 
 in Kassel.\nAn zahlreichen kreativ dekorierten Ständen finden Nähbegeis
 terte von Stoffen bis Zubehör alles\, rund um das Thema "Nähen".\nDer Ei
 ntritt zum Stoffmarkt in Kassel ist frei.\nWeitere Informationen finden Si
 e unter: https://deinstoffmarkt.de/termine/
LOCATION:Damaschkestraße  34121 Süd
SUMMARY:Stoffmarkt Kassel
END:VEVENT
END:VCALENDAR
