BEGIN:VCALENDAR
VERSION:2.0
PRODID:icalendar-ruby
CALSCALE:GREGORIAN
BEGIN:VEVENT
DTSTAMP:20260420T133940Z
UID:0903a81c-eb8d-418f-92f8-4d788c5217b4
DTSTART:20260614T110000
DTEND:20260614T170000
DESCRIPTION:Am Sonntag\, den 14. Juni 2026 von 11-17 Uhr\, findet der Deuts
 ch-Holländische Stoffmarkt wieder in Siegen statt. An zahlreichen bunt de
 korierten und teilweise mit Stoffen behangenen Ständen präsentieren sich
  die Aussteller auf dem Globus-Parkplatz.\nNähliebhaber wissen – Stoffe
  müssen nicht nur gut aussehen\, sie müssen sich auch gut anfühlen. Die
 s ist ein großer Vorteil des Stoffmarktes gegenüber dem Online-Handel\, 
 denn hier kann jeder Besucher die Produkte in die Hand nehmen und die Qual
 ität selbst begutachten.\nViele Besucher schätzen auch den direkten Kont
 akt zum Experten. Vor allem für Nähneulinge bietet dies eine gute Mögli
 chkeit sich vor dem Kauf beraten zu lassen oder hilfreiche Tipps zu bekomm
 en\, damit das Nähprojekt auch ein voller Erfolg wird.\nAbgerundet wird d
 as Angebot durch eine riesige Auswahl an Schnittmustern und Kurzwaren wie 
 Applikationen\, Borten\, Nadeln oder Garn.\nDer Eintritt zum Stoffmarkt is
 t wie gewohnt frei.\nWeitere Informationen finden Sie unter: deinstoffmark
 t.de
LOCATION:Eiserfelder Straße 170 57072 
SUMMARY:Stoffmarkt Siegen
END:VEVENT
END:VCALENDAR
