BEGIN:VCALENDAR
VERSION:2.0
PRODID:icalendar-ruby
CALSCALE:GREGORIAN
BEGIN:VEVENT
DTSTAMP:20260422T073606Z
UID:37111cde-eee9-4815-8471-70ff4c94e972
DTSTART:20260503T110000
DTEND:20260503T170000
DESCRIPTION:Am Sonntag\, den 3. Mai 2026\, lädt der Deutsch-Holländische 
 Stoffmarkt von 11 bis 17 Uhr erneut nach Münster ein. Auf dem Schlossplat
 z  präsentieren zahlreiche Aussteller ihre Waren an liebevoll dekorierte
 n Ständen\, die teilweise üppig mit Stoffen geschmückt sind.\nNähbegei
 sterte wissen: Stoffe müssen nicht nur optisch überzeugen\, sondern sich
  auch gut anfühlen. Genau darin liegt ein großer Vorteil des Stoffmarkte
 s gegenüber dem Online-Handel – Besucher können die Materialien direkt
  anfassen und sich selbst von Qualität und Haptik überzeugen.\nEin weite
 rer Pluspunkt ist der persönliche Austausch mit den Fachleuten vor Ort. B
 esonders für Nähanfänger bietet sich hier die Gelegenheit\, sich vor de
 m Kauf beraten zu lassen und wertvolle Tipps zu erhalten\, damit das näch
 ste Nähprojekt garantiert gelingt.\nErgänzt wird das vielfältige Angebo
 t durch eine große Auswahl an Schnittmustern sowie Kurzwaren wie Applikat
 ionen\, Borten\, Nadeln oder Garn.\nDer Eintritt ist wie gewohnt frei.Weit
 ere Informationen finden Sie unter: https://deinstoffmarkt.de/termine/  
LOCATION:Schlossplatz  48143 
SUMMARY:Stoffmarkt Münster
END:VEVENT
END:VCALENDAR
