BEGIN:VCALENDAR
VERSION:2.0
PRODID:icalendar-ruby
CALSCALE:GREGORIAN
BEGIN:VEVENT
DTSTAMP:20260421T022225Z
UID:e7eca77d-132c-47d4-ac50-ac482f68857e
DTSTART:20260524T110000
DTEND:20260524T180000
DESCRIPTION:Regelmäßig stattfindender Trödelmarkt zwischen Haan und Hild
 en gelegen. Gerade bei schönem Wetter findet man hier viele private Ausst
 eller welche ihre ganz persönlichen Schätze anbieten aber auch interessa
 nte Neuwartenstände sind vertreten.\nNutzen Sie die Gelegenheit Dinge die
  Sie nicht mehr benötigen zu Geld zu machen - oder Sie sind privater (Hob
 by-)Trödler oder wollen ein solcher werden\, dann sind Sie natürlich auc
 h herzlich willkomen.\nParken BesucherEin Teil des Geländes dient als Bes
 ucherparkplatz\, darüber hinaus befinden sich in der näheren Umgebung Pa
 rkplätze. Wir empfehlen allerdings die Anreise mit öffentlichen Verkehrs
 mitteln.\nStandplatzreservierungenüber unser Büro: bis Freitag vor dem M
 arkt 12 Uhrvor Ort: Samstag 17 Uhr\, Sonntag ab 7 Uhr\nParken Aussteller /
  PKW am StandGenerell können Sie Ihr Fahrzeug quer hinter dem Stand parke
 n sofern die Länge des Fahrzeuges der Standlänge entspricht (z. B. Golf-
 Größe ab 4 lfd. Metern / Kombi ab 5 lfd. Metern). Fragen Sie im Zweifel 
 gerne die Marktleitung vor Ort bzw. entnehmen Sie die Länge Ihres Fahrzeu
 ges dem Fahrzeugschein.\nStandaufbauAb 7 Uhr - jedoch nicht vor Eintreffen
  der Marktleitung (erkennbar an der gelben Weste / rotes T-Shirt bzw. Pull
 over)\nVerkaufszeit11 bis 18 Uhr\, Abbau ab 16 Uhr möglich\nStandmietenGr
 undgebühr / Stand: 5€lfd. Meter Trödel 12€lfd. Meter Neuware 20€lf
 d. Meter Textil / Lederwaren / Werkzeug 22€Eckplatzzuschlag: 20€Reinig
 ungskaution: 5€ (bei sauberem Verlassen zurück)Angebot: 4 Mtr. Trödel 
 nur 45€Angaben ohne Gewähr. Aktuelle und detaillierte Infos findet Ihr 
 auf unserer Homepage www.rieder-maerkte.de.
LOCATION:Düsseldorfer Straße 123 42781 
SUMMARY:Haan\, Hagebaumarkt
END:VEVENT
END:VCALENDAR
