BEGIN:VCALENDAR
VERSION:2.0
PRODID:icalendar-ruby
CALSCALE:GREGORIAN
BEGIN:VEVENT
DTSTAMP:20260426T024234Z
UID:6ad1006b-92ea-43f8-b995-9f010845f941
DTSTART:20260703T090000
DTEND:20260703T170000
DESCRIPTION:Im Herzen von Traben-Trarbach\, das Juwel der Mittelmosel. Fin
 det mehrmals im Jahr unser MOSEL-FLOHMARKT statt.Auf dem MoselFlohmarkt 
 werden Antiquitäten\, Kleidung\, Schmuck\, Trödel uvm. aus verschiedenen
  Epochen sowie Ländern angeboten. Unser MoselFlohmarkt bieten für jeden 
 etwas und ist Dank der beliebten sowie historischen Mosellandschaften ein 
 absoluter Touristenmagnet als auch Hingucker. Unser Flohmarkt verbindet Fr
 eude und Spass und ist das Top Ziel für einen Wochenendausflug. Wenn Sie 
 mehr erleben möchten als nur Flohmarkt\, dann kommen Sie auf unseren Mose
 l Flohmarkt. Wir freuen uns auf ihren Besuch\,Das Team Moselflohmarkt.Vera
 nstalter Markus NitzINFORMATIONEN FÜR HÄNDLERFreitag:​Aufbauab 06:00 U
 hr Abbauab 17 Uhr Samstag: Aufbauab 06:00 Uhr Abbauab 17 Uhr Sonntag:
  ​Aufbauab 09:00 Uhr Abbauab 17 Uhr Standpreis: pro.Lfm 10€ (groß
 zügiger Aufbau)Sollten Sie noch Fragen haben\, dann nehmen Sie bitte dire
 kt Kontakt mit uns auf:Telefon: 06541 814559Mobil: 01516 8921238E-Mail: in
 fo@moselflohmarkt.deFamilie Nitz &amp\; TeamP.s. Kennen Sie schon unsere F
 acebook Seite? https://www.facebook.com/MoselFlohmarkt/\nWenn du auch ein
  Teil unserer Community werden möchtest\, würden wir uns über deinen B
 eitritt freuen...https://www.facebook.com/groups/moselflohmarkt/
LOCATION:B53 Enkircher Straße 3 56841 Trarbach
SUMMARY:Floh Trödel und Handwerkermarkt 
END:VEVENT
END:VCALENDAR
