BEGIN:VCALENDAR
VERSION:2.0
PRODID:icalendar-ruby
CALSCALE:GREGORIAN
BEGIN:VEVENT
DTSTAMP:20260419T230100Z
UID:5aca52ce-4410-4b2f-b19b-2a04895acc43
DTSTART:20260510T080000
DTEND:20260510T170000
DESCRIPTION:FLohmarkt im herzen von Friedrichstadt
LOCATION:Am Markt 21 25840 
SUMMARY:Flohmarkt
END:VEVENT
END:VCALENDAR
