BEGIN:VCALENDAR
VERSION:2.0
PRODID:icalendar-ruby
CALSCALE:GREGORIAN
BEGIN:VEVENT
DTSTAMP:20260419T193609Z
UID:653401b1-e635-466d-9430-cc787ffcd65e
DTSTART:20260614T080000
DTEND:20260614T170000
DESCRIPTION:FLohmarkt im herzen von Friedrichstadt
LOCATION:Am Markt 21 25840 
SUMMARY:Flohmarkt
END:VEVENT
END:VCALENDAR
