BEGIN:VCALENDAR
VERSION:2.0
PRODID:icalendar-ruby
CALSCALE:GREGORIAN
BEGIN:VEVENT
DTSTAMP:20260419T213021Z
UID:ebc250a2-ce61-49c0-8912-0e023da706c1
DTSTART:20260712T080000
DTEND:20260712T170000
DESCRIPTION:FLohmarkt im herzen von Friedrichstadt
LOCATION:Am Markt 21 25840 
SUMMARY:Flohmarkt
END:VEVENT
END:VCALENDAR
