BEGIN:VCALENDAR
VERSION:2.0
PRODID:icalendar-ruby
CALSCALE:GREGORIAN
BEGIN:VEVENT
DTSTAMP:20260419T212428Z
UID:1b0e75a6-58d4-4b79-9f92-cade08f89866
DTSTART:20260809T080000
DTEND:20260809T170000
DESCRIPTION:FLohmarkt im herzen von Friedrichstadt
LOCATION:Am Markt 21 25840 
SUMMARY:Flohmarkt
END:VEVENT
END:VCALENDAR
