BEGIN:VCALENDAR
VERSION:2.0
PRODID:icalendar-ruby
CALSCALE:GREGORIAN
BEGIN:VEVENT
DTSTAMP:20260419T211608Z
UID:790ddf88-e367-4195-8907-5a3b0882124f
DTSTART:20260906T080000
DTEND:20260906T170000
DESCRIPTION:FLohmarkt im herzen von Friedrichstadt
LOCATION:Am Markt 21 25840 
SUMMARY:Flohmarkt
END:VEVENT
END:VCALENDAR
